BEGIN:VCALENDAR
VERSION:2.0
PRODID:-//Werbering Isen - ECPv6.1.3//NONSGML v1.0//EN
CALSCALE:GREGORIAN
METHOD:PUBLISH
X-WR-CALNAME:Werbering Isen
X-ORIGINAL-URL:https://www.werberingisen.de
X-WR-CALDESC:Veranstaltungen für Werbering Isen
REFRESH-INTERVAL;VALUE=DURATION:PT1H
X-Robots-Tag:noindex
X-PUBLISHED-TTL:PT1H
BEGIN:VTIMEZONE
TZID:Europe/Berlin
BEGIN:DAYLIGHT
TZOFFSETFROM:+0100
TZOFFSETTO:+0200
TZNAME:CEST
DTSTART:20260329T010000
END:DAYLIGHT
BEGIN:STANDARD
TZOFFSETFROM:+0200
TZOFFSETTO:+0100
TZNAME:CET
DTSTART:20261025T010000
END:STANDARD
END:VTIMEZONE
BEGIN:VEVENT
DTSTART;VALUE=DATE:20260425
DTEND;VALUE=DATE:20260426
DTSTAMP:20260425T013652
CREATED:20260124T125907Z
LAST-MODIFIED:20260417T201407Z
UID:87405-1777075200-1777161599@www.werberingisen.de
SUMMARY:Kolpingsfamilie Isen: Altmaterialsammlung
DESCRIPTION:
URL:https://www.werberingisen.de/termin/kolpingsfamilie-isen-altmaterialsammlung-3/
END:VEVENT
BEGIN:VEVENT
DTSTART;VALUE=DATE:20260425
DTEND;VALUE=DATE:20260426
DTSTAMP:20260425T013652
CREATED:20260205T191426Z
LAST-MODIFIED:20260424T191356Z
UID:87839-1777075200-1777161599@www.werberingisen.de
SUMMARY:Altmaterialsammlung
DESCRIPTION:Trotz der schwierigen Lage auf dem Altkleidermarkt führt die Kolpingsfamilie Isen auch in diesem Jahr wieder ihre traditionelle Altkleider- und Altpapiersammlung durch.\nDer Termin ist am Samstag\, 25. April.\nDie Straßensammlung von Haus zu Haus findet in den Gemeindebereichen Isen\, Lengdorf\, Burgrain\, Mittbach\, Pemmering und Buch am Buchrain in der üblichen Form statt. Die Sammelfahrzeuge starten um 8 Uhr am Volksfestplatz in Isen und fahren im Lauf des Tages die Ortschaften und Weiler im Sammelgebiet ab.\nKleidersäcke und Altpapier sollen bitte gut sichtbar bereitgelegt werden\, damit die Sammelteams sie nicht übersehen. Bei schlechtem Wetter bitte abdecken.\nLeere Kleidersäcke liegen etwa zwei Wochen vor der Sammlung an den bekannten Stellen im Sammelgebiet aus.\nAlle Infos dazu finden sich hier.\n \nZusätzliche Sammelgebiete\nWeil die „Aktion Rumpelkammer“ der Landjugend auch in diesem Jahr nicht stattfindet\, weitet die Kolpingsfamilie Isen ihre Sammlung auch heuer auf weitere Ortschaften aus\, nämlich auf Walpertskirchen\, Reithofen/Pastetten und Forstern.\nIn diesen Ortschaften findet allerdings keine Straßensammlung von Haus zu Haus statt\, stattdessen gibt es zentrale Sammelpunkte\, an denen Altpapier/Altkleider abgelegt werden können. Dort werden sie dann von der Kolpingsfamilie abgeholt.\nAlle Infos zu unserer Sammlung finden sich hier.\n \nFragen zur Sammlung\nFragen zur Sammlung beantwortet die Kolpingsfamilie Isen gern unter info@kolping-isen.de oder unter 0179 2306363.\n 
URL:https://www.werberingisen.de/termin/altmaterialsammlung-3/
LOCATION:Großraum Isen/Lengdorf\, Isen\, 84424\, Deutschland
CATEGORIES:Altmaterialsammlung
ATTACH;FMTTYPE=image/jpeg:https://www.werberingisen.de/wp-content/uploads/2021/08/Kolping-Isen-Altmaterialsammlung-Kleidung-2026-lWDUYd.tmp_.jpg
END:VEVENT
BEGIN:VEVENT
DTSTART;VALUE=DATE:20260425
DTEND;VALUE=DATE:20260426
DTSTAMP:20260425T013652
CREATED:20260317T145900Z
LAST-MODIFIED:20260417T201407Z
UID:89030-1777075200-1777161599@www.werberingisen.de
SUMMARY:Pfarrei Lengdorf: Markusbittgang
DESCRIPTION:
URL:https://www.werberingisen.de/termin/pfarrei-lengdorf-markusbittgang/
END:VEVENT
END:VCALENDAR