BEGIN:VCALENDAR
VERSION:2.0
PRODID:-//Werbering Isen - ECPv6.1.3//NONSGML v1.0//EN
CALSCALE:GREGORIAN
METHOD:PUBLISH
X-ORIGINAL-URL:https://www.werberingisen.de
X-WR-CALDESC:Veranstaltungen für Werbering Isen
REFRESH-INTERVAL;VALUE=DURATION:PT1H
X-Robots-Tag:noindex
X-PUBLISHED-TTL:PT1H
BEGIN:VTIMEZONE
TZID:Europe/Berlin
BEGIN:DAYLIGHT
TZOFFSETFROM:+0100
TZOFFSETTO:+0200
TZNAME:CEST
DTSTART:20270328T010000
END:DAYLIGHT
BEGIN:STANDARD
TZOFFSETFROM:+0200
TZOFFSETTO:+0100
TZNAME:CET
DTSTART:20271031T010000
END:STANDARD
END:VTIMEZONE
BEGIN:VEVENT
DTSTART;TZID=Europe/Berlin:20270701T140000
DTEND;TZID=Europe/Berlin:20270701T160000
DTSTAMP:20260422T112125
CREATED:20250701T121359Z
LAST-MODIFIED:20260421T134357Z
UID:81823-1814450400-1814457600@www.werberingisen.de
SUMMARY:NBH Seniorencafe
DESCRIPTION:
URL:https://www.werberingisen.de/termin/nbh-seniorencafe-65/
LOCATION:Gasthaus zum Bruckwirt\nDorfner Straße 8\, 84424 Isen\, Deutschland
END:VEVENT
BEGIN:VEVENT
DTSTART;TZID=Europe/Berlin:20270702T163000
DTEND;TZID=Europe/Berlin:20270702T190000
DTSTAMP:20260422T112125
CREATED:20250720T212905Z
LAST-MODIFIED:20251128T105911Z
UID:81899-1814545800-1814554800@www.werberingisen.de
SUMMARY:Kinderfeuerwehr
DESCRIPTION:
URL:https://www.werberingisen.de/termin/kinderfeuerwehr-1047/
LOCATION:Feuerwehrhaus Lengdorf
END:VEVENT
BEGIN:VEVENT
DTSTART;TZID=Europe/Berlin:20270704T140000
DTEND;TZID=Europe/Berlin:20270704T170000
DTSTAMP:20260422T112126
CREATED:20250720T212906Z
LAST-MODIFIED:20251128T105911Z
UID:81900-1814709600-1814720400@www.werberingisen.de
SUMMARY:Café am Sonntag
DESCRIPTION:
URL:https://www.werberingisen.de/termin/cafe-am-sonntag-97/
LOCATION:Seniorenzentrum Pichlmayr
END:VEVENT
BEGIN:VEVENT
DTSTART;TZID=Europe/Berlin:20270707T140000
DTEND;TZID=Europe/Berlin:20270707T160000
DTSTAMP:20260422T112126
CREATED:20250707T122941Z
LAST-MODIFIED:20260421T134357Z
UID:81845-1814968800-1814976000@www.werberingisen.de
SUMMARY:NBH Seniorencafe
DESCRIPTION:
URL:https://www.werberingisen.de/termin/nbh-seniorencafe-66/
LOCATION:Gasthof Menzinger\nHauptstraße 2\, 84435 Lengdorf\, Deutschland
END:VEVENT
BEGIN:VEVENT
DTSTART;TZID=Europe/Berlin:20270718T140000
DTEND;TZID=Europe/Berlin:20270718T170000
DTSTAMP:20260422T112126
CREATED:20250720T212906Z
LAST-MODIFIED:20251128T105911Z
UID:81901-1815919200-1815930000@www.werberingisen.de
SUMMARY:Café am Sonntag
DESCRIPTION:
URL:https://www.werberingisen.de/termin/cafe-am-sonntag-98/
LOCATION:Seniorenzentrum Pichlmayr
END:VEVENT
BEGIN:VEVENT
DTSTART;TZID=Europe/Berlin:20270721T140000
DTEND;TZID=Europe/Berlin:20270721T163000
DTSTAMP:20260422T112126
CREATED:20250721T004406Z
LAST-MODIFIED:20251128T105911Z
UID:81918-1816178400-1816187400@www.werberingisen.de
SUMMARY:Seniorentreff
DESCRIPTION:
URL:https://www.werberingisen.de/termin/seniorentreff-58/
LOCATION:Pfarrheim Isen\, St.-Zeno-Platz 5\, 84424 Isen
END:VEVENT
BEGIN:VEVENT
DTSTART;TZID=Europe/Berlin:20270801T140000
DTEND;TZID=Europe/Berlin:20270801T170000
DTSTAMP:20260422T112126
CREATED:20250801T002903Z
LAST-MODIFIED:20251128T105911Z
UID:82225-1817128800-1817139600@www.werberingisen.de
SUMMARY:Café am Sonntag
DESCRIPTION:
URL:https://www.werberingisen.de/termin/cafe-am-sonntag-99/
LOCATION:Seniorenzentrum Pichlmayr
END:VEVENT
BEGIN:VEVENT
DTSTART;TZID=Europe/Berlin:20270804T140000
DTEND;TZID=Europe/Berlin:20270804T160000
DTSTAMP:20260422T112126
CREATED:20250804T132914Z
LAST-MODIFIED:20260421T134358Z
UID:82314-1817388000-1817395200@www.werberingisen.de
SUMMARY:NBH Seniorencafe
DESCRIPTION:
URL:https://www.werberingisen.de/termin/nbh-seniorencafe-67/
LOCATION:Gasthof Menzinger\nHauptstraße 2\, 84435 Lengdorf\, Deutschland
END:VEVENT
BEGIN:VEVENT
DTSTART;TZID=Europe/Berlin:20270805T140000
DTEND;TZID=Europe/Berlin:20270805T160000
DTSTAMP:20260422T112126
CREATED:20250805T134412Z
LAST-MODIFIED:20260421T134358Z
UID:82340-1817474400-1817481600@www.werberingisen.de
SUMMARY:NBH Seniorencafe
DESCRIPTION:
URL:https://www.werberingisen.de/termin/nbh-seniorencafe-68/
LOCATION:Gasthaus zum Bruckwirt\nDorfner Straße 8\, 84424 Isen\, Deutschland
END:VEVENT
BEGIN:VEVENT
DTSTART;TZID=Europe/Berlin:20270806T163000
DTEND;TZID=Europe/Berlin:20270806T190000
DTSTAMP:20260422T112126
CREATED:20250806T001440Z
LAST-MODIFIED:20251128T105911Z
UID:82353-1817569800-1817578800@www.werberingisen.de
SUMMARY:Kinderfeuerwehr
DESCRIPTION:
URL:https://www.werberingisen.de/termin/kinderfeuerwehr-1048/
LOCATION:Feuerwehrhaus Lengdorf
END:VEVENT
BEGIN:VEVENT
DTSTART;TZID=Europe/Berlin:20270815T140000
DTEND;TZID=Europe/Berlin:20270815T170000
DTSTAMP:20260422T112126
CREATED:20250815T002907Z
LAST-MODIFIED:20251128T105912Z
UID:82587-1818338400-1818349200@www.werberingisen.de
SUMMARY:Café am Sonntag
DESCRIPTION:
URL:https://www.werberingisen.de/termin/cafe-am-sonntag-100/
LOCATION:Seniorenzentrum Pichlmayr
END:VEVENT
BEGIN:VEVENT
DTSTART;TZID=Europe/Berlin:20270818T140000
DTEND;TZID=Europe/Berlin:20270818T163000
DTSTAMP:20260422T112126
CREATED:20250818T004409Z
LAST-MODIFIED:20251128T105912Z
UID:82676-1818597600-1818606600@www.werberingisen.de
SUMMARY:Seniorentreff
DESCRIPTION:
URL:https://www.werberingisen.de/termin/seniorentreff-59/
LOCATION:Pfarrheim Isen\, St.-Zeno-Platz 5\, 84424 Isen
END:VEVENT
BEGIN:VEVENT
DTSTART;TZID=Europe/Berlin:20270901T140000
DTEND;TZID=Europe/Berlin:20270901T160000
DTSTAMP:20260422T112126
CREATED:20250901T151410Z
LAST-MODIFIED:20260421T134358Z
UID:83066-1819807200-1819814400@www.werberingisen.de
SUMMARY:NBH Seniorencafe
DESCRIPTION:
URL:https://www.werberingisen.de/termin/nbh-seniorencafe-69/
LOCATION:Gasthof Menzinger\nHauptstraße 2\, 84435 Lengdorf\, Deutschland
END:VEVENT
BEGIN:VEVENT
DTSTART;TZID=Europe/Berlin:20270902T140000
DTEND;TZID=Europe/Berlin:20270902T160000
DTSTAMP:20260422T112126
CREATED:20250902T151358Z
LAST-MODIFIED:20260421T134358Z
UID:83093-1819893600-1819900800@www.werberingisen.de
SUMMARY:NBH Seniorencafe
DESCRIPTION:
URL:https://www.werberingisen.de/termin/nbh-seniorencafe-70/
LOCATION:Gasthaus zum Bruckwirt\nDorfner Straße 8\, 84424 Isen\, Deutschland
END:VEVENT
BEGIN:VEVENT
DTSTART;TZID=Europe/Berlin:20270903T163000
DTEND;TZID=Europe/Berlin:20270903T190000
DTSTAMP:20260422T112126
CREATED:20250903T004412Z
LAST-MODIFIED:20251128T105912Z
UID:83105-1819989000-1819998000@www.werberingisen.de
SUMMARY:Kinderfeuerwehr
DESCRIPTION:
URL:https://www.werberingisen.de/termin/kinderfeuerwehr-1073/
LOCATION:Feuerwehrhaus Lengdorf
END:VEVENT
BEGIN:VEVENT
DTSTART;TZID=Europe/Berlin:20270905T140000
DTEND;TZID=Europe/Berlin:20270905T170000
DTSTAMP:20260422T112126
CREATED:20250905T174411Z
LAST-MODIFIED:20251128T105912Z
UID:83178-1820152800-1820163600@www.werberingisen.de
SUMMARY:Café am Sonntag
DESCRIPTION:
URL:https://www.werberingisen.de/termin/cafe-am-sonntag-101/
LOCATION:Seniorenzentrum Pichlmayr
END:VEVENT
BEGIN:VEVENT
DTSTART;TZID=Europe/Berlin:20270915T140000
DTEND;TZID=Europe/Berlin:20270915T163000
DTSTAMP:20260422T112126
CREATED:20250915T004409Z
LAST-MODIFIED:20251128T105912Z
UID:83423-1821016800-1821025800@www.werberingisen.de
SUMMARY:Seniorentreff
DESCRIPTION:
URL:https://www.werberingisen.de/termin/seniorentreff-60/
LOCATION:Pfarrheim Isen\, St.-Zeno-Platz 5\, 84424 Isen
END:VEVENT
BEGIN:VEVENT
DTSTART;TZID=Europe/Berlin:20270919T140000
DTEND;TZID=Europe/Berlin:20270919T170000
DTSTAMP:20260422T112126
CREATED:20250921T152905Z
LAST-MODIFIED:20251128T105912Z
UID:83622-1821362400-1821373200@www.werberingisen.de
SUMMARY:Café am Sonntag
DESCRIPTION:
URL:https://www.werberingisen.de/termin/cafe-am-sonntag-102/
LOCATION:Seniorenzentrum Pichlmayr
END:VEVENT
BEGIN:VEVENT
DTSTART;TZID=Europe/Berlin:20271001T163000
DTEND;TZID=Europe/Berlin:20271001T190000
DTSTAMP:20260422T112126
CREATED:20251001T005904Z
LAST-MODIFIED:20251128T105912Z
UID:83900-1822408200-1822417200@www.werberingisen.de
SUMMARY:Kinderfeuerwehr
DESCRIPTION:
URL:https://www.werberingisen.de/termin/kinderfeuerwehr-1074/
LOCATION:Feuerwehrhaus Lengdorf
END:VEVENT
BEGIN:VEVENT
DTSTART;TZID=Europe/Berlin:20271003T140000
DTEND;TZID=Europe/Berlin:20271003T170000
DTSTAMP:20260422T112126
CREATED:20251024T201411Z
LAST-MODIFIED:20251128T105912Z
UID:84592-1822572000-1822582800@www.werberingisen.de
SUMMARY:Café am Sonntag
DESCRIPTION:
URL:https://www.werberingisen.de/termin/cafe-am-sonntag-103/
LOCATION:Seniorenzentrum Pichlmayr
END:VEVENT
BEGIN:VEVENT
DTSTART;TZID=Europe/Berlin:20271006T140000
DTEND;TZID=Europe/Berlin:20271006T160000
DTSTAMP:20260422T112126
CREATED:20251006T164358Z
LAST-MODIFIED:20260421T134358Z
UID:84086-1822831200-1822838400@www.werberingisen.de
SUMMARY:NBH Seniorencafe
DESCRIPTION:
URL:https://www.werberingisen.de/termin/nbh-seniorencafe-72/
LOCATION:Gasthof Menzinger\nHauptstraße 2\, 84435 Lengdorf\, Deutschland
END:VEVENT
BEGIN:VEVENT
DTSTART;TZID=Europe/Berlin:20271007T140000
DTEND;TZID=Europe/Berlin:20271007T160000
DTSTAMP:20260422T112126
CREATED:20251007T164359Z
LAST-MODIFIED:20260421T134358Z
UID:84141-1822917600-1822924800@www.werberingisen.de
SUMMARY:NBH Seniorencafe
DESCRIPTION:
URL:https://www.werberingisen.de/termin/nbh-seniorencafe-73/
LOCATION:Gasthaus zum Bruckwirt\nDorfner Straße 8\, 84424 Isen\, Deutschland
END:VEVENT
BEGIN:VEVENT
DTSTART;TZID=Europe/Berlin:20271017T140000
DTEND;TZID=Europe/Berlin:20271017T170000
DTSTAMP:20260422T112126
CREATED:20251025T145911Z
LAST-MODIFIED:20251128T105912Z
UID:84613-1823781600-1823792400@www.werberingisen.de
SUMMARY:Café am Sonntag
DESCRIPTION:
URL:https://www.werberingisen.de/termin/cafe-am-sonntag-104/
LOCATION:Seniorenzentrum Pichlmayr
END:VEVENT
BEGIN:VEVENT
DTSTART;TZID=Europe/Berlin:20271020T140000
DTEND;TZID=Europe/Berlin:20271020T163000
DTSTAMP:20260422T112126
CREATED:20251031T205910Z
LAST-MODIFIED:20251128T105913Z
UID:84788-1824040800-1824049800@www.werberingisen.de
SUMMARY:Seniorentreff
DESCRIPTION:
URL:https://www.werberingisen.de/termin/seniorentreff-61/
LOCATION:Pfarrheim Isen\, St.-Zeno-Platz 5\, 84424 Isen
END:VEVENT
BEGIN:VEVENT
DTSTART;TZID=Europe/Berlin:20271103T140000
DTEND;TZID=Europe/Berlin:20271103T160000
DTSTAMP:20260422T112126
CREATED:20251103T184414Z
LAST-MODIFIED:20260421T134358Z
UID:84865-1825250400-1825257600@www.werberingisen.de
SUMMARY:NBH Seniorencafe
DESCRIPTION:
URL:https://www.werberingisen.de/termin/nbh-seniorencafe-74/
LOCATION:Gasthof Menzinger\nHauptstraße 2\, 84435 Lengdorf\, Deutschland
END:VEVENT
BEGIN:VEVENT
DTSTART;TZID=Europe/Berlin:20271104T140000
DTEND;TZID=Europe/Berlin:20271104T160000
DTSTAMP:20260422T112126
CREATED:20251104T185914Z
LAST-MODIFIED:20260421T134358Z
UID:84891-1825336800-1825344000@www.werberingisen.de
SUMMARY:NBH Seniorencafe
DESCRIPTION:
URL:https://www.werberingisen.de/termin/nbh-seniorencafe-75/
LOCATION:Gasthaus zum Bruckwirt\nDorfner Straße 8\, 84424 Isen\, Deutschland
END:VEVENT
BEGIN:VEVENT
DTSTART;TZID=Europe/Berlin:20271105T163000
DTEND;TZID=Europe/Berlin:20271105T190000
DTSTAMP:20260422T112126
CREATED:20251105T002908Z
LAST-MODIFIED:20251128T105913Z
UID:84899-1825432200-1825441200@www.werberingisen.de
SUMMARY:Kinderfeuerwehr
DESCRIPTION:
URL:https://www.werberingisen.de/termin/kinderfeuerwehr-1098/
LOCATION:Feuerwehrhaus Lengdorf
END:VEVENT
BEGIN:VEVENT
DTSTART;TZID=Europe/Berlin:20271107T140000
DTEND;TZID=Europe/Berlin:20271107T170000
DTSTAMP:20260422T112126
CREATED:20251114T182915Z
LAST-MODIFIED:20251128T105913Z
UID:85148-1825596000-1825606800@www.werberingisen.de
SUMMARY:Café am Sonntag
DESCRIPTION:
URL:https://www.werberingisen.de/termin/cafe-am-sonntag-105/
LOCATION:Seniorenzentrum Pichlmayr
END:VEVENT
BEGIN:VEVENT
DTSTART;TZID=Europe/Berlin:20271117T140000
DTEND;TZID=Europe/Berlin:20271117T163000
DTSTAMP:20260422T112126
CREATED:20251123T004643Z
LAST-MODIFIED:20251128T105913Z
UID:85392-1826460000-1826469000@www.werberingisen.de
SUMMARY:Seniorentreff
DESCRIPTION:
URL:https://www.werberingisen.de/termin/seniorentreff-62/
LOCATION:Pfarrheim Isen\, St.-Zeno-Platz 5\, 84424 Isen
END:VEVENT
BEGIN:VEVENT
DTSTART;TZID=Europe/Berlin:20271121T140000
DTEND;TZID=Europe/Berlin:20271121T170000
DTSTAMP:20260422T112126
CREATED:20251124T202906Z
LAST-MODIFIED:20251128T105913Z
UID:85440-1826805600-1826816400@www.werberingisen.de
SUMMARY:Café am Sonntag
DESCRIPTION:
URL:https://www.werberingisen.de/termin/cafe-am-sonntag-106/
LOCATION:Seniorenzentrum Pichlmayr
END:VEVENT
END:VCALENDAR