BEGIN:VCALENDAR
VERSION:2.0
PRODID:-//Werbering Isen - ECPv6.1.3//NONSGML v1.0//EN
CALSCALE:GREGORIAN
METHOD:PUBLISH
X-ORIGINAL-URL:https://www.werberingisen.de
X-WR-CALDESC:Veranstaltungen für Werbering Isen
REFRESH-INTERVAL;VALUE=DURATION:PT1H
X-Robots-Tag:noindex
X-PUBLISHED-TTL:PT1H
BEGIN:VTIMEZONE
TZID:Europe/Berlin
BEGIN:DAYLIGHT
TZOFFSETFROM:+0100
TZOFFSETTO:+0200
TZNAME:CEST
DTSTART:20280326T010000
END:DAYLIGHT
BEGIN:STANDARD
TZOFFSETFROM:+0200
TZOFFSETTO:+0100
TZNAME:CET
DTSTART:20281029T010000
END:STANDARD
END:VTIMEZONE
BEGIN:VEVENT
DTSTART;TZID=Europe/Berlin:20280301T140000
DTEND;TZID=Europe/Berlin:20280301T160000
DTSTAMP:20260422T151511
CREATED:20260301T205909Z
LAST-MODIFIED:20260421T134359Z
UID:88565-1835532000-1835539200@www.werberingisen.de
SUMMARY:NBH Seniorencafe
DESCRIPTION:
URL:https://www.werberingisen.de/termin/nbh-seniorencafe-82/
LOCATION:Gasthof Menzinger\nHauptstraße 2\, 84435 Lengdorf\, Deutschland
END:VEVENT
BEGIN:VEVENT
DTSTART;TZID=Europe/Berlin:20280302T140000
DTEND;TZID=Europe/Berlin:20280302T160000
DTSTAMP:20260422T151511
CREATED:20260302T205908Z
LAST-MODIFIED:20260421T134359Z
UID:88593-1835618400-1835625600@www.werberingisen.de
SUMMARY:NBH Seniorencafe
DESCRIPTION:
URL:https://www.werberingisen.de/termin/nbh-seniorencafe-83/
LOCATION:Gasthaus zum Bruckwirt\nDorfner Straße 8\, 84424 Isen\, Deutschland
END:VEVENT
BEGIN:VEVENT
DTSTART;TZID=Europe/Berlin:20280405T140000
DTEND;TZID=Europe/Berlin:20280405T160000
DTSTAMP:20260422T151511
CREATED:20260405T131401Z
LAST-MODIFIED:20260421T134359Z
UID:89353-1838556000-1838563200@www.werberingisen.de
SUMMARY:NBH Seniorencafe
DESCRIPTION:
URL:https://www.werberingisen.de/termin/nbh-seniorencafe-84/
LOCATION:Gasthof Menzinger\nHauptstraße 2\, 84435 Lengdorf\, Deutschland
END:VEVENT
BEGIN:VEVENT
DTSTART;TZID=Europe/Berlin:20280406T140000
DTEND;TZID=Europe/Berlin:20280406T160000
DTSTAMP:20260422T151511
CREATED:20260406T131402Z
LAST-MODIFIED:20260421T134359Z
UID:89358-1838642400-1838649600@www.werberingisen.de
SUMMARY:NBH Seniorencafe
DESCRIPTION:
URL:https://www.werberingisen.de/termin/nbh-seniorencafe-85/
LOCATION:Gasthaus zum Bruckwirt\nDorfner Straße 8\, 84424 Isen\, Deutschland
END:VEVENT
END:VCALENDAR