BEGIN:VCALENDAR
VERSION:2.0
PRODID:-//Werbering Isen - ECPv6.1.3//NONSGML v1.0//EN
CALSCALE:GREGORIAN
METHOD:PUBLISH
X-WR-CALNAME:Werbering Isen
X-ORIGINAL-URL:https://www.werberingisen.de
X-WR-CALDESC:Veranstaltungen für Werbering Isen
REFRESH-INTERVAL;VALUE=DURATION:PT1H
X-Robots-Tag:noindex
X-PUBLISHED-TTL:PT1H
BEGIN:VTIMEZONE
TZID:Europe/Berlin
BEGIN:DAYLIGHT
TZOFFSETFROM:+0100
TZOFFSETTO:+0200
TZNAME:CEST
DTSTART:20220327T010000
END:DAYLIGHT
BEGIN:STANDARD
TZOFFSETFROM:+0200
TZOFFSETTO:+0100
TZNAME:CET
DTSTART:20221030T010000
END:STANDARD
END:VTIMEZONE
BEGIN:VEVENT
DTSTART;TZID=Europe/Berlin:20220623T113000
DTEND;TZID=Europe/Berlin:20220623T130000
DTSTAMP:20260420T085812
CREATED:20220602T120005Z
LAST-MODIFIED:20220602T120005Z
UID:51953-1655983800-1655989200@www.werberingisen.de
SUMMARY:lsener Mittagswiesn
DESCRIPTION:Viele Bierzeltschmankerl schon zum Mittagessen. Auch zum Mitnehmen!
URL:https://www.werberingisen.de/termin/lsener-mittagswiesn/
LOCATION:Volksfestplatz\, 84424 Isen
CATEGORIES:Isener Volksfest 2022
END:VEVENT
END:VCALENDAR