BEGIN:VCALENDAR
VERSION:2.0
PRODID:-//Werbering Isen - ECPv6.1.3//NONSGML v1.0//EN
CALSCALE:GREGORIAN
METHOD:PUBLISH
X-WR-CALNAME:Werbering Isen
X-ORIGINAL-URL:https://www.werberingisen.de
X-WR-CALDESC:Veranstaltungen für Werbering Isen
REFRESH-INTERVAL;VALUE=DURATION:PT1H
X-Robots-Tag:noindex
X-PUBLISHED-TTL:PT1H
BEGIN:VTIMEZONE
TZID:Europe/Berlin
BEGIN:DAYLIGHT
TZOFFSETFROM:+0100
TZOFFSETTO:+0200
TZNAME:CEST
DTSTART:20230326T010000
END:DAYLIGHT
BEGIN:STANDARD
TZOFFSETFROM:+0200
TZOFFSETTO:+0100
TZNAME:CET
DTSTART:20231029T010000
END:STANDARD
END:VTIMEZONE
BEGIN:VEVENT
DTSTART;TZID=Europe/Berlin:20230428T210000
DTEND;TZID=Europe/Berlin:20230428T210000
DTSTAMP:20260422T094946
CREATED:20230108T195522Z
LAST-MODIFIED:20230119T171133Z
UID:62547-1682715600-1682715600@www.werberingisen.de
SUMMARY:Schüd-ei-Party
DESCRIPTION:Schüd-ei-Party\n💙🤍💙🤍💙 \nAb 21 Uhr Party mit MS Deejays im Maibaumstüberl der KLJB Isen \nSchaut’s vorbei\, mia gfrein uns auf eich!
URL:https://www.werberingisen.de/termin/schued-ei-party/
LOCATION:Isen Maibamstüberl\, Maibamstüberl\, Isen\, 84424\, Deutschland
CATEGORIES:Verein
ORGANIZER;CN="KLJB%20Isen":MAILTO:vorstand@kljb-isen.de
END:VEVENT
END:VCALENDAR